BEGIN:VCALENDAR
VERSION:2.0
PRODID:-//Full Life Harvesters - ECPv6.15.20//NONSGML v1.0//EN
CALSCALE:GREGORIAN
METHOD:PUBLISH
X-ORIGINAL-URL:https://fulllifeharvester.com
X-WR-CALDESC:Events for Full Life Harvesters
REFRESH-INTERVAL;VALUE=DURATION:PT1H
X-Robots-Tag:noindex
X-PUBLISHED-TTL:PT1H
BEGIN:VTIMEZONE
TZID:UTC
BEGIN:STANDARD
TZOFFSETFROM:+0000
TZOFFSETTO:+0000
TZNAME:UTC
DTSTART:20210101T000000
END:STANDARD
END:VTIMEZONE
BEGIN:VTIMEZONE
TZID:Europe/Paris
BEGIN:DAYLIGHT
TZOFFSETFROM:+0100
TZOFFSETTO:+0200
TZNAME:CEST
DTSTART:20210328T010000
END:DAYLIGHT
BEGIN:STANDARD
TZOFFSETFROM:+0200
TZOFFSETTO:+0100
TZNAME:CET
DTSTART:20211031T010000
END:STANDARD
BEGIN:DAYLIGHT
TZOFFSETFROM:+0100
TZOFFSETTO:+0200
TZNAME:CEST
DTSTART:20220327T010000
END:DAYLIGHT
BEGIN:STANDARD
TZOFFSETFROM:+0200
TZOFFSETTO:+0100
TZNAME:CET
DTSTART:20221030T010000
END:STANDARD
BEGIN:DAYLIGHT
TZOFFSETFROM:+0100
TZOFFSETTO:+0200
TZNAME:CEST
DTSTART:20230326T010000
END:DAYLIGHT
BEGIN:STANDARD
TZOFFSETFROM:+0200
TZOFFSETTO:+0100
TZNAME:CET
DTSTART:20231029T010000
END:STANDARD
END:VTIMEZONE
BEGIN:VEVENT
DTSTART;TZID=UTC:20220815T080000
DTEND;TZID=UTC:20220815T170000
DTSTAMP:20260420T122456
CREATED:20220815T163452Z
LAST-MODIFIED:20220815T163452Z
UID:3856-1660550400-1660582800@fulllifeharvester.com
SUMMARY:WORD CONFERENCE: Thy Word Burneth As Fire. (September 2022)
DESCRIPTION:WORD CONFERENCE: Thy Word Burneth As Fire. (September 2022)
URL:https://fulllifeharvester.com/event/word-conference-thy-word-burneth-as-fire-september-2022/
ATTACH;FMTTYPE=image/jpeg:https://fulllifeharvester.com/wp-content/uploads/2022/08/sept-1-1.jpg
END:VEVENT
BEGIN:VEVENT
DTSTART;TZID=UTC:20220520T110000
DTEND;TZID=UTC:20220520T170000
DTSTAMP:20260420T122456
CREATED:20220512T173311Z
LAST-MODIFIED:20220719T123053Z
UID:3068-1653044400-1653066000@fulllifeharvester.com
SUMMARY:Counselling And Prayer
DESCRIPTION:Counselling And Prayer \n11:00am – 5:00pm
URL:https://fulllifeharvester.com/event/pastoral-counselling-and-prayer-2/
LOCATION:Nannie Van Wehlstraat 168\, 2548 MN\, THE HAGUE NETHERLANDS.\, Nannie Van Wehlstraat 168\, 2548 MN\, THE HAGUE NETHERLANDS.\, The Hague\, The Hague\, Netherlands
ATTACH;FMTTYPE=image/jpeg:https://fulllifeharvester.com/wp-content/uploads/2022/04/pexels-pixabay-267559-scaled.jpg
END:VEVENT
BEGIN:VEVENT
DTSTART;TZID=UTC:20220520T071500
DTEND;TZID=UTC:20220524T173000
DTSTAMP:20260420T122456
CREATED:20220519T194237Z
LAST-MODIFIED:20220719T123253Z
UID:3346-1653030900-1653413400@fulllifeharvester.com
SUMMARY:TONGUES OF FIRE (PART ONE)
DESCRIPTION:5 DAYS OF AWAKE PENTECOSTAL PRAYER REVIVAL. \nTONGUES OF FIRE (PART ONE) \n20TH – 24TH MAY\, 2022. \n7:15AM & 5:30PM \nMINISTERING: WILSON AKINSO \n  \n 
URL:https://fulllifeharvester.com/event/tongues-of-fire-part-one/
ATTACH;FMTTYPE=image/jpeg:https://fulllifeharvester.com/wp-content/uploads/2022/05/Photo-from-Joshua-Akinropo-Adetifa-17.jpg
END:VEVENT
BEGIN:VEVENT
DTSTART;TZID=UTC:20220519T080000
DTEND;TZID=UTC:20220519T170000
DTSTAMP:20260420T122456
CREATED:20220512T173003Z
LAST-MODIFIED:20220719T123702Z
UID:3066-1652947200-1652979600@fulllifeharvester.com
SUMMARY:Counselling And Prayer
DESCRIPTION:Counselling And Prayer \n11:00am – 5:00pm \n 
URL:https://fulllifeharvester.com/event/pastoral-counselling-and-prayer/
END:VEVENT
BEGIN:VEVENT
DTSTART;TZID=Europe/Paris:20220513T110000
DTEND;TZID=Europe/Paris:20220513T170000
DTSTAMP:20260420T122456
CREATED:20220512T172713Z
LAST-MODIFIED:20220719T123416Z
UID:3064-1652439600-1652461200@fulllifeharvester.com
SUMMARY:Pastoral Counselling And Prayers
DESCRIPTION:Counselling And Prayers \nThursday-Friday \n11:00am – 5:00pm
URL:https://fulllifeharvester.com/event/pastoral-counselling-and-prayers/
END:VEVENT
END:VCALENDAR